BEGIN:VCALENDAR
VERSION:2.0
PRODID:-//Ferntree Gully News - ECPv6.15.20//NONSGML v1.0//EN
CALSCALE:GREGORIAN
METHOD:PUBLISH
X-WR-CALNAME:Ferntree Gully News
X-ORIGINAL-URL:https://ferntreegullynews.com
X-WR-CALDESC:Events for Ferntree Gully News
REFRESH-INTERVAL;VALUE=DURATION:PT1H
X-Robots-Tag:noindex
X-PUBLISHED-TTL:PT1H
BEGIN:VTIMEZONE
TZID:UTC
BEGIN:STANDARD
TZOFFSETFROM:+0000
TZOFFSETTO:+0000
TZNAME:UTC
DTSTART:20200101T000000
END:STANDARD
END:VTIMEZONE
BEGIN:VEVENT
DTSTART;TZID=UTC:20211120T200000
DTEND;TZID=UTC:20211120T214000
DTSTAMP:20260423T075828
CREATED:20211027T045159Z
LAST-MODIFIED:20211027T045221Z
UID:4082-1637438400-1637444400@ferntreegullynews.com
SUMMARY:The Amazing Travelling Comedy Tour
DESCRIPTION:The Amazing Travelling Comedy Tour (TATCT) is a partnership formed to bring Australia’s best new comedic artists to audiences outside major cities. \n\n\n\nThey are Australia’s only dedicated stand-up comedy touring company focused on regional audiences\, and the only multi-performer tour to visit regional towns other than the Melbourne International Comedy Festival Roadshow. \nThis event will feature five outstanding comedians\, including some of Australia’s best established and up and coming comedians. \nWatch this space – comedians will be announced soon! \nShow warnings: Performances often contain coarse language\, sexual references and material that can offend. It is recommended for people aged 15 years or older. \nTickets\n\nAdult: $30.00\nConcession: $28.00\nGroup of Eight: $26.00
URL:https://ferntreegullynews.com/event/the-amazing-travelling-comedy-tour/
LOCATION:Knox Community Arts Centre\, Corner Mountain Highway and Scoresby Road\, Bayswater\, Victoria\, 3153\, Australia
CATEGORIES:Community
ATTACH;FMTTYPE=image/png:https://ferntreegullynews.com/wp-content/uploads/2021/10/the_amazing_travelling_comedy_tour.png
END:VEVENT
BEGIN:VEVENT
DTSTART;TZID=UTC:20211114T110000
DTEND;TZID=UTC:20211205T160000
DTSTAMP:20260423T075828
CREATED:20210725T082519Z
LAST-MODIFIED:20210928T124243Z
UID:3763-1636887600-1638720000@ferntreegullynews.com
SUMMARY:The Hut Gallery - 'Members Annual' Exhibition
DESCRIPTION:Where: The Hut Gallery\, 157 Underwood Road\, Ferntree Gully\nWhen: Weekends 11am – 4pm \nA wonderful exhibition of the best artwork by our artists created within the past\ntwo years\, in a variety of mediums. All artworks are for sale. \nAlso presenting the Allan & Peg Lowe Annual Award. \nAll welcome. Free entry.
URL:https://ferntreegullynews.com/event/the-hut-gallery-winter-exhibition/
LOCATION:The Hut Gallery\, 157 Underwood Road\, Ferntree Gully\, 3156\, Australia
CATEGORIES:Arts,Community
ATTACH;FMTTYPE=image/jpeg:https://ferntreegullynews.com/wp-content/uploads/2019/06/hut-gallery.jpg
END:VEVENT
BEGIN:VEVENT
DTSTART;TZID=UTC:20211113T080000
DTEND;TZID=UTC:20211231T170000
DTSTAMP:20260423T075828
CREATED:20210725T074952Z
LAST-MODIFIED:20211130T010544Z
UID:3735-1636790400-1640970000@ferntreegullynews.com
SUMMARY:Knox Immerse 2021
DESCRIPTION:Immerse is an arts festival that transforms the City of Knox into a living art gallery. \nThe festival shares the arts in unexpected places and encourages creativity in everyday spaces. Enjoy a variety of art and experiences in your neighbourhood\, or from the comfort of your own home\, including performances\, visual arts\, augmented reality\, digital artwork and more. \nOver thirty artists are currently busy designing\, making and creating their work\, which is set to transform Knox across three hubs. Find links to all the Immerse locations\, artists and artworks here. \nThis is a COVIDSafe activity presented within the current Victorian Covid-19 regulations.
URL:https://ferntreegullynews.com/event/knox-immerse-2021/
CATEGORIES:Arts,Community
ATTACH;FMTTYPE=image/jpeg:https://ferntreegullynews.com/wp-content/uploads/2021/07/immerse-2021_sml.jpg
END:VEVENT
BEGIN:VEVENT
DTSTART;TZID=UTC:20211105T080000
DTEND;TZID=UTC:20211119T170000
DTSTAMP:20260423T075828
CREATED:20211019T035237Z
LAST-MODIFIED:20211019T035237Z
UID:4064-1636099200-1637341200@ferntreegullynews.com
SUMMARY:Knox Art Show
DESCRIPTION:The Knox Art Show returns this November as a virtual event! \nFeaturing a great selection of works from local and regional artists\, in a variety of styles and subjects. \nFor more information\, visit www.knoxartshow.org.au
URL:https://ferntreegullynews.com/event/knox-art-show/
CATEGORIES:Arts,Community
ATTACH;FMTTYPE=image/jpeg:https://ferntreegullynews.com/wp-content/uploads/2021/10/knox-art-show.jpg
END:VEVENT
BEGIN:VEVENT
DTSTART;TZID=UTC:20211020T190000
DTEND;TZID=UTC:20211020T200000
DTSTAMP:20260423T075828
CREATED:20210917T022835Z
LAST-MODIFIED:20210917T022835Z
UID:3963-1634756400-1634760000@ferntreegullynews.com
SUMMARY:CFA Bushfire Planning Workshop - Online
DESCRIPTION:Ferntree Gully CFA are holding an Online Bushfire Planning Workshop on Zoom. \nThis is especially essential for residents living near Koolunga Reserve.\nA well thought-out plan can save your life. \nUse the QR code in the image to register to attend. \n 
URL:https://ferntreegullynews.com/event/cfa-bushfire-planning-workshop-online/
CATEGORIES:Community,Safety
ATTACH;FMTTYPE=image/jpeg:https://ferntreegullynews.com/wp-content/uploads/2021/09/cfa_bushfire-planning.jpg
END:VEVENT
BEGIN:VEVENT
DTSTART;TZID=UTC:20211017T100000
DTEND;TZID=UTC:20211017T170000
DTSTAMP:20260423T075828
CREATED:20210725T075748Z
LAST-MODIFIED:20210917T052801Z
UID:3745-1634464800-1634490000@ferntreegullynews.com
SUMMARY:Knox Stringybark Festival
DESCRIPTION:Stringybark 2021 goes virtual with an online program and fun activities at home! \n\n\n\n\n\nAs the global pandemic continues to create hurdles for festivals and events\, it means that our usual Stringybark Festival can’t be delivered on site at the Rowville Community Centre.\nInstead\, we have pivoted and reimagined our program as a COVIDSafe virtual offering\, with a diverse program featuring backyard animals\, arts\, garden and kitchen fun. Presented both online and with challenges and fun to be had in your very own home and 5km radius.\n\nStringybark is a free community event exploring everything local\, home-made\, creative\, sustainable and adventurous in Knox. The event features a range of activities including: \n\nsustainability workshops\ncolourful stage programs\na makers market\ncooking presentations\nand more.\n\n\nThis virtual program will be shared to our Facebook page\, with more info coming soon! See website for details.
URL:https://ferntreegullynews.com/event/knox-stringybark-festival/
CATEGORIES:Community,Environment,Festivals
ATTACH;FMTTYPE=image/jpeg:https://ferntreegullynews.com/wp-content/uploads/2021/07/stringybark.jpg
END:VEVENT
BEGIN:VEVENT
DTSTART;TZID=UTC:20211016T080000
DTEND;TZID=UTC:20211116T170000
DTSTAMP:20260423T075828
CREATED:20211011T000614Z
LAST-MODIFIED:20211011T000614Z
UID:4054-1634371200-1637082000@ferntreegullynews.com
SUMMARY:Upwey Archies 2021
DESCRIPTION:Good news! The annual Upwey Archies is on again! \nInspired by the Archibald Prize\, the Upwey Archies is an annual community portrait event organised by Upwey Community Group\, in partnership with Burrinja Cultural Centre. A sensational opportunity for local aspiring artists to create an original artwork celebrating a person special to them and to have their work publicly displayed on the walls and windows in the Upwey Main Street shops. \nAward categories for both Open age and Youth (14 years and under) include Winner\, Highly Commended\, Heart (Encouragement) and Packing Room. And this year a ‘Community Favourite’ award has been added\, with members of the community encouraged to vote for their favourite portrait. The works are judged by an art expert (last year’s winner)\, and awards are officially announced at a special celebration in the Upwey Village Square\, in late October. \nThe Upwey Archies Portraits bring a real ‘sparkle’ to the village from 16 October\, through to 16  November. It’s heaps of fun seeing all the entries in the shop windows in Main Street every year and catching the excited comments and explanations as you walk past. \nPlease check the Upwey Archies Facebook page for regular updates or email upweycommunitygroup@gmail.com for any queries.
URL:https://ferntreegullynews.com/event/upwey-archies-2021/
LOCATION:Main St\, Upwey\, Main Street\, Upwey
CATEGORIES:Arts,Community
ATTACH;FMTTYPE=image/jpeg:https://ferntreegullynews.com/wp-content/uploads/2021/09/Upwey-Archies-2019.jpeg
ORGANIZER;CN="Upwey Communiy Group":MAILTO:upweycommunitygroup@gmail.com
END:VEVENT
BEGIN:VEVENT
DTSTART;TZID=UTC:20211013T120000
DTEND;TZID=UTC:20211013T170000
DTSTAMP:20260423T075828
CREATED:20210817T050433Z
LAST-MODIFIED:20210817T050433Z
UID:3934-1634126400-1634144400@ferntreegullynews.com
SUMMARY:Volunteering Expo 2021
DESCRIPTION:Will 2021 be the year you volunteer in our community? Post lockdowns we all need to press the refresh button!  \nFind out how at the Volunteer for Knox Expo. Connect with community organisations from a variety of sectors and learn about volunteer opportunities to suit your lifestyle! They can be flexible\, one off or a pathway to employment!  \nThe expo is scheduled for Wednesday 13 October\, 12:00pm – 5:00pm at Westfield Knox Community Space\, Level 1\, outside Myer.
URL:https://ferntreegullynews.com/event/volunteering-expo-2021/
LOCATION:Westfield Knox\, 425 Burwood Hwy\, Wantirna South\, Victoria\, 3152\, Australia
CATEGORIES:Community
ATTACH;FMTTYPE=image/jpeg:https://ferntreegullynews.com/wp-content/uploads/2021/08/volunteer-expo-2021.jpg
END:VEVENT
BEGIN:VEVENT
DTSTART;TZID=UTC:20211001T080000
DTEND;TZID=UTC:20211028T170000
DTSTAMP:20260423T075828
CREATED:20210725T083319Z
LAST-MODIFIED:20210928T121344Z
UID:3772-1633075200-1635440400@ferntreegullynews.com
SUMMARY:Knox Seniors Festival 2021
DESCRIPTION:The Knox Seniors Festival will take place from Monday 4 October to Saturday 16 October 2021. \nThe 2021 festival\, themed “Keepin’ On”\, will be offering an online program from 1 June – 31 October with live events state-wide running from 1 – 31 October 2021.  For details see their Facebook page. The 2021 program will be released in September 2021. \nThe festival celebrates ageing positively. It also recognises the important contribution older people make to our community. \nIf your club or organisation would like to host an event\, activity or workshop either in-person or online\, please contact Linda on 9298 8828. \n 
URL:https://ferntreegullynews.com/event/knox-seniors-festival-2021/
CATEGORIES:Community,Festivals
ATTACH;FMTTYPE=image/jpeg:https://ferntreegullynews.com/wp-content/uploads/2021/07/seniorsfest2021.jpg
END:VEVENT
BEGIN:VEVENT
DTSTART;TZID=UTC:20210805T113000
DTEND;TZID=UTC:20210805T140000
DTSTAMP:20260423T075828
CREATED:20210725T083938Z
LAST-MODIFIED:20210725T083938Z
UID:3775-1628163000-1628172000@ferntreegullynews.com
SUMMARY:Soup and Singing
DESCRIPTION:Come and enjoy a warm cup of soup\, cake and coffee. Entertainment will be provided by Brendan Scott.  Brendan is an accomplished and experienced entertainer with a wide repertoire of familiar songs.  He also plays a variety of instruments including piano\, guitar\, saxophone\, banjo and violin. \nWhile this is a free event\, donations are welcome. To book\, please contact Judy Bowman before 3 August on 0409 097294 or email Judy.Bowman@lca.org.au \nThis activity is part of the Knox Over 55s Zest4Life program.
URL:https://ferntreegullynews.com/event/soup-and-singing/
LOCATION:Our Saviour’s Lutheran Church\, 646 Burwood Highway\, Knoxfield\, Victoria\, 3180\, Australia
CATEGORIES:Community
END:VEVENT
BEGIN:VEVENT
DTSTART;TZID=UTC:20210731T080000
DTEND;TZID=UTC:20220131T170000
DTSTAMP:20260423T075828
CREATED:20210725T074612Z
LAST-MODIFIED:20211221T221457Z
UID:3730-1627718400-1643648400@ferntreegullynews.com
SUMMARY:Foothills Art Trail
DESCRIPTION:As you wander around the Ferntree Gully village shopping areas\, you’ll notice something new – the Ferntree Gully Arts Society are excited to announce “The Foothills Art Trail” – a project to put art in windows and on the shelves and counters of shops in the Ferntree Gully Village. \nStarting 24th July and running to the end of January\, we’ll be presenting a changing array of works from our artists as well as from our kids classes. They’ve all been working hard to come up with art along the theme of Australian flora and fauna. Stroll the village\, sit for a coffee and enjoy the artworks.
URL:https://ferntreegullynews.com/event/foothills-art-trail/
LOCATION:Ferntree Gully Village\, Victoria\, 3156\, Australia
CATEGORIES:Arts
ATTACH;FMTTYPE=image/jpeg:https://ferntreegullynews.com/wp-content/uploads/2021/07/art_trail2.jpg
END:VEVENT
BEGIN:VEVENT
DTSTART;TZID=UTC:20210704T110000
DTEND;TZID=UTC:20210725T160000
DTSTAMP:20260423T075828
CREATED:20210713T105640Z
LAST-MODIFIED:20210713T105640Z
UID:3482-1625396400-1627228800@ferntreegullynews.com
SUMMARY:The Hut Gallery ‘Print and Drawing Exhibition’
DESCRIPTION:4th – 25th – The Hut Gallery ‘Print and Drawing Exhibition’\n \nWhere: The Hut Gallery\, 157 Underwood Road\, Ferntree Gully\nWhen: Weekends 11am – 4pm \nCall in and have a look at this exciting collection of printings and drawings.\nAll welcome. Free entry.
URL:https://ferntreegullynews.com/event/the-hut-gallery-print-and-drawing-exhibition/
LOCATION:The Hut Gallery\, 157 Underwood Road\, Ferntree Gully\, 3156\, Australia
END:VEVENT
END:VCALENDAR