BEGIN:VCALENDAR
VERSION:2.0
PRODID:-//Ferntree Gully News - ECPv6.15.20//NONSGML v1.0//EN
CALSCALE:GREGORIAN
METHOD:PUBLISH
X-WR-CALNAME:Ferntree Gully News
X-ORIGINAL-URL:https://ferntreegullynews.com
X-WR-CALDESC:Events for Ferntree Gully News
REFRESH-INTERVAL;VALUE=DURATION:PT1H
X-Robots-Tag:noindex
X-PUBLISHED-TTL:PT1H
BEGIN:VTIMEZONE
TZID:UTC
BEGIN:STANDARD
TZOFFSETFROM:+0000
TZOFFSETTO:+0000
TZNAME:UTC
DTSTART:20220101T000000
END:STANDARD
END:VTIMEZONE
BEGIN:VEVENT
DTSTART;TZID=UTC:20230926T110000
DTEND;TZID=UTC:20230926T120000
DTSTAMP:20260423T075425
CREATED:20230703T064714Z
LAST-MODIFIED:20230703T064714Z
UID:6031-1695726000-1695729600@ferntreegullynews.com
SUMMARY:Garden Party - A Bee Story Adventure (School Holiday Feature Show)
DESCRIPTION:This is a uniquely Australian circus and physical theatre show for children and families incorporating a kaleidoscope of acrobatics\, dance\, magic and live music. \n“Garden Party” is a new buzzy adventure featuring Queen Bee and Worker Bee! This is a uniquely Australian circus and physical theatre show for children and families incorporating a kaleidoscope of acrobatics\, dance\, magic and live music. \nThe bees are in another sticky situation! But some new friends and some new tricks might help them get unstuck… \nJoin the bees on their magical adventure an be amazed by their super strength\, glow-in-the-dark escapades\, acrobatic skills\, groovy dance moves and giant new friends. \nThis show explores new themes around sustainability (pollination)\, teamwork and community spirit. \nCost\n\nAdult : $18.00\nChild: $15.00\nFamily (4 people): $52.00\n\n\nEmail arts@knox.vic.gov.au or call the Knox Community Arts Centre team on 9729 7287.
URL:https://ferntreegullynews.com/event/garden-party-a-bee-story-adventure-school-holiday-feature-show/
LOCATION:Knox Community Arts Centre\, Corner Mountain Highway and Scoresby Road\, Bayswater\, Victoria\, 3153\, Australia
ATTACH;FMTTYPE=image/jpeg:https://ferntreegullynews.com/wp-content/uploads/2023/07/Secret-Garden-Bees.jpg
ORGANIZER;CN="Knox Arts & Events":MAILTO:arts@knox.vic.gov.au
END:VEVENT
END:VCALENDAR